BEGIN:VCALENDAR
VERSION:2.0
PRODID:-//ChamberMaster//Event Calendar 2.0//EN
METHOD:PUBLISH
X-PUBLISHED-TTL:P3D
REFRESH-INTERVAL:P3D
CALSCALE:GREGORIAN
BEGIN:VEVENT
DTSTART:20230420T141500Z
DTEND:20230420T153000Z
X-MICROSOFT-CDO-ALLDAYEVENT:FALSE
SUMMARY:Speed Networking
DESCRIPTION:Join us for our first Speed Networking event of the year! You'll experience a\n\nfast-paced\, one-on-one opportunity that enables you to meet and interact with multiple professionals from various industries.\n\n	Make a new contact every 5 minutes\n	Find new ways to collaborate\n	Market your business\n	Build stronger relationships
X-ALT-DESC;FMTTYPE=text/html:Join us for our first Speed Networking event of the year! You&#39\;ll experience a<br />\nfast-paced\, one-on-one opportunity that enables you to meet and interact with multiple professionals from various industries.\n<ul>\n	<li>Make a new contact every 5 minutes</li>\n	<li>Find new ways to collaborate</li>\n	<li>Market your business</li>\n	<li>Build stronger relationships</li>\n</ul>\n
LOCATION:Superior Community Center 1500 Coalton Rd\, Superior\, CA 80027
UID:e.867.15042
SEQUENCE:3
DTSTAMP:20260420T231805Z
URL:http://superiorchamber.chambermaster.com/events/details/speed-networking-15042
END:VEVENT

END:VCALENDAR
