BEGIN:VCALENDAR
VERSION:2.0
PRODID:-//ChamberMaster//Event Calendar 2.0//EN
METHOD:PUBLISH
X-PUBLISHED-TTL:P3D
REFRESH-INTERVAL:P3D
CALSCALE:GREGORIAN
BEGIN:VEVENT
DTSTART;VALUE=DATE:20230810
DTEND;VALUE=DATE:20230811
TRANSP:TRANSPARENT
X-MICROSOFT-CDO-ALLDAYEVENT:TRUE
SUMMARY:Rooftop Drop - Fall 2023
DESCRIPTION:*DEADLINE EXTENDED*\n\nIt's time to prepare for our Fall Rooftop Drop! \n\nThis exclusive opportunity is available to our esteemed Bronze\, Gold\, and Platinum members\, giving you the chance to showcase your brand to every residential address in Superior.\n\nItems will be delivered around the 21st of August to help better align with a pre-holiday drop in mid November!\n\nTo make participation even easier and more convenient for you\, we are excited to introduce a printing option. We are now offering to assist you in preparing for the Rooftop Drop (RTD) marketing campaign by handling the printing of your marketing materials. No more rushing to meet deadlines or worrying about delivering hard copies! Simply send us your PDF file\, and we will take care of the printing process for you.\n\n\n\n1\,000 Full Color Copies\n\n\n	8.5 x 11 - 1 sided = $315  or   2 sided = $415\n	6 x 9  - 1 sided = $230  or    2 sided = $290\n	5.5 x 8.5  =  1 sided = $225  or   2 sided = $265\n\n\n\nNeed us to design your Ad? We can help!   Design Fee: $30\n\n\n\nAll members MUST register to be included in our Rooftop Drop\n\nDeadline: Tuesday\, August 10\, 2023\n\nItems will be delivered around the 21st of August to help better align with a pre-holiday Winter drop in mid November!\n\n \n\nDEADLINES & DELIVERY INSTRUCTIONS\n\nHow & When?\n\nPick one of the two options below.\n\n\n	Option 1: Send a digital file for us to print 1\,000 pieces for you. \n\n\nEmail us by August 1st to Stefanie@superiorchamber.com. Please note\, you must register and pay for your printing before we send it off to be printed. \n\n\n	Option 2: Deliver your printed collateral or small promo item. \n\n\nDeliver no more than 1\,000 pieces by August 10th to the Superior Chamber Office. Please make arrangements with Stefanie at stefanie@superiorchamber.com. \n\n\n\nWho?\n\nThe Roof Top Drop is for members in the Bronze level or above. \n\n\n\nIndividual Members\n\nIf you are an Individual level Member\, you have the option to upgrade or pay a fee to participate in this drop.
X-ALT-DESC;FMTTYPE=text/html:<h3 style="margin: 0px\; font-family: Tahoma\, Geneva\, sans-serif\; color: rgb(62\, 62\, 62)\; font-size: 18px\; font-weight: bold\; white-space: pre-wrap\; text-align: center\;"><span style="font-family:arial\;"><span style="font-size:20px\;">*DEADLINE EXTENDED*<br />\nIt&#39\;s time to prepare for our Fall Rooftop Drop! </span></span></h3>\n\n<p style="margin: 0px\; padding: 0px\;"><span style="font-family:arial\;"><span style="font-size:16px\;">This exclusive opportunity is available to our esteemed <span style="font-weight: bold\;">Bronze\, Gold\, and Platinum members</span>\, giving you the chance to showcase your brand to every residential address in Superior.</span></span></p>\n\n<p style="margin: 0px\; padding: 0px\;"><em style="color: rgb(139\, 27\, 63)\; font-family: arial\; font-size: 14px\;"><span style="color: rgb(128\, 0\, 128)\;"><span style="font-weight: bold\;">Items will be delivered around the 21st&nbsp\;of August to help better align with a pre-holiday drop in mid November!</span></span></em></p>\n\n<p style="margin: 0px\; padding: 0px\;"><span style="font-family:arial\;"><span style="font-size:16px\;">To make participation even easier and more convenient for you\, we are excited to introduce a printing option. We are<span style="font-weight: bold\;"> now offering</span> to assist you in preparing for the Rooftop Drop (RTD) marketing campaign by handling the <span style="font-weight: bold\;">printing of your marketing materials</span>. No more rushing to meet deadlines or worrying about delivering hard copies! Simply send us your PDF file\, and we will take care of the printing process for you.<br />\n<br />\n<u><strong>1\,000 Full Color Copies</strong></u></span></span></p>\n\n<ul>\n	<li class="_04xlpA direction-ltr align-center para-style-body" line-height:="" style="color: rgb(139\, 27\, 63)\; font-family: " yackom60ufo=""><span style="font-family:arial\;"><span style="font-size:16px\;"><span style="color:#000000\;"><span class="WdYUQQ">8.5 x 11</span><span class="WdYUQQ white-space-prewrap">&nbsp\;-&nbsp\;</span><span class="WdYUQQ">1 sided = $315&nbsp\; or&nbsp\; &nbsp\;2 sided = $415</span></span></span></span></li>\n	<li class="_04xlpA direction-ltr align-center para-style-body" line-height:="" style="color: rgb(139\, 27\, 63)\; font-family: " yackom60ufo=""><span style="font-family:arial\;"><span style="font-size:16px\;"><span style="color:#000000\;"><span class="WdYUQQ">6 x 9<span class="WdYUQQ white-space-prewrap"> </span>&nbsp\;- 1 sided = $230&nbsp\; or&nbsp\; &nbsp\; 2 sided = $290</span></span></span></span></li>\n	<li class="_04xlpA direction-ltr align-center para-style-body" line-height:="" style="color: rgb(139\, 27\, 63)\; font-family: " yackom60ufo=""><span style="font-family:arial\;"><span style="font-size:16px\;"><span style="color:#000000\;"><span class="WdYUQQ">5.5 x 8.5&nbsp\; =&nbsp\; 1 sided = $225&nbsp\; or&nbsp\; &nbsp\;2 sided = $265</span></span></span></span></li>\n</ul>\n\n<div class="_04xlpA direction-ltr align-center para-style-body" line-height:="" style="color: rgb(139\, 27\, 63)\; font-family: " yackom60ufo="">\n<p class="_04xlpA direction-ltr align-center para-style-body" line-height:="" style="color: rgb(139\, 27\, 63)\; font-family: " yackom60ufo=""><span style="font-family:arial\;"><span style="font-size:16px\;"><span style="color:#000000\;"><strong><span class="WdYUQQ">Need us to design your Ad? We can help!</span></strong><span class="WdYUQQ white-space-prewrap"><strong>&nbsp\; </strong>&nbsp\;</span><span class="WdYUQQ">Design Fee: $30</span></span><br />\n<br />\n<span style="color: rgb(0\, 0\, 0)\; font-weight: bold\;">All members MUST register to be included in our Rooftop Drop</span><br />\n<span style="color: rgb(0\, 0\, 0)\; font-weight: bold\;">Deadline: </span><span style="color:#B22222\;"><span style="font-weight: bold\;">Tuesday\, August&nbsp\;10\, 2023</span></span></span></span></p>\n\n<p style="margin: 0px\; padding: 0px\; color: rgb(62\, 62\, 62)\; font-family: Arial\, Verdana\, Helvetica\, sans-serif\; font-size: 14px\; white-space: pre-wrap\; background-color: rgb(255\, 255\, 255)\;"><em style="color: rgb(139\, 27\, 63)\; font-family: arial\; font-size: 14px\;"><span style="color: rgb(128\, 0\, 128)\;"><span style="font-weight: bold\;">Items will be delivered around the 21st of August to help better align with a pre-holiday Winter drop in mid November!</span></span></em><br />\n&nbsp\;</p>\n\n<div style="margin: 0px\; padding: 0px\; color: rgb(62\, 62\, 62)\; font-family: Arial\, Verdana\, Helvetica\, sans-serif\; font-size: 14px\; white-space: pre-wrap\; background-color: rgb(255\, 255\, 255)\;"><span style="font-family:arial\;"><span style="font-size:16px\;"><span style="color: rgb(0\, 0\, 0)\; font-weight: bold\;">DEADLINES &amp\; DELIVERY INSTRUCTIONS</span></span></span></div>\n\n<div style="margin: 0px\; padding: 0px\; color: rgb(62\, 62\, 62)\; font-family: Arial\, Verdana\, Helvetica\, sans-serif\; font-size: 14px\; white-space: pre-wrap\; background-color: rgb(255\, 255\, 255)\;"><span style="font-family:arial\;"><span style="font-size:16px\;"><span style="color: rgb(0\, 0\, 0)\; font-style: italic\; font-weight: bold\;">How &amp\; When?</span></span></span></div>\n\n<div style="margin: 0px\; padding: 0px\; color: rgb(62\, 62\, 62)\; font-family: Arial\, Verdana\, Helvetica\, sans-serif\; font-size: 14px\; white-space: pre-wrap\; background-color: rgb(255\, 255\, 255)\;"><span style="font-family:arial\;"><span style="font-size:16px\;"><span style="color: rgb(0\, 0\, 0)\; font-style: italic\;">Pick one of the two options below.</span></span></span></div>\n\n<ul style="padding: 0px\; margin: 0px 0px 0px 40px\; color: rgb(62\, 62\, 62)\; font-family: Arial\, Verdana\, Helvetica\, sans-serif\; font-size: 14px\; white-space: pre-wrap\; background-color: rgb(255\, 255\, 255)\;">\n	<li style="padding: 0px\; margin: 0px\; font-size: 18px\; color: rgb(0\, 0\, 0)\;"><span style="font-family:arial\;"><span style="font-size:16px\;"><span style="text-decoration-line: underline\; font-weight: bold\;">Option 1:</span><span style="font-weight: bold\;"> Send a digital file for us to print 1\,000 pieces for you.&nbsp\;</span></span></span></li>\n</ul>\n\n<div class="indent-1" style="margin: 0px 0px 0px 3em\; padding: 0px\; color: rgb(62\, 62\, 62)\; font-family: Arial\, Verdana\, Helvetica\, sans-serif\; font-size: 14px\; white-space: pre-wrap\; background-color: rgb(255\, 255\, 255)\;"><span style="font-family:arial\;"><span style="font-size:16px\;"><span style="color: rgb(0\, 0\, 0)\;">Email us by</span><span style="color: rgb(0\, 0\, 0)\; font-weight: bold\;"> August 1st</span><span style="color: rgb(0\, 0\, 0)\;">&nbsp\;to</span><a data-link-type="email" href="mailto:info@superiorchamber.com" style="text-decoration-line: none\; color: rgb(0\, 0\, 0)\; font-weight: bold\; font-size: 16px\;" target="_blank">&nbsp\;</a><a data-link-type="email" href="mailto:info@superiorchamber.com" style="color: rgb(138\, 12\, 82)\; font-weight: bold\; font-size: 16px\;" target="_blank">Stefanie@superiorchamber.com</a>. Please note\, you must <a data-link-type="web" href="https://member.superiorchamber.com/events/details/rooftop-drop-summer-15049" style="color: rgb(138\, 12\, 82)\; font-weight: bold\; font-size: 16px\;" target="_blank">register</a> and pay for your printing before we send it off to be printed. </span></span></div>\n\n<ul style="padding: 0px\; margin: 0px 0px 0px 40px\; color: rgb(62\, 62\, 62)\; font-family: Arial\, Verdana\, Helvetica\, sans-serif\; font-size: 14px\; white-space: pre-wrap\; background-color: rgb(255\, 255\, 255)\;">\n	<li style="padding: 0px\; margin: 0px\; font-size: 18px\; color: rgb(0\, 0\, 0)\;"><span style="font-family:arial\;"><span style="font-size:16px\;"><span style="text-decoration-line: underline\; font-weight: bold\;">Option 2:</span><span style="font-weight: bold\;"> Deliver your printed collateral or small promo item.&nbsp\;</span></span></span></li>\n</ul>\n\n<div class="indent-1" style="margin: 0px 0px 0px 3em\; padding: 0px\; color: rgb(62\, 62\, 62)\; font-family: Arial\, Verdana\, Helvetica\, sans-serif\; white-space: pre-wrap\; background-color: rgb(255\, 255\, 255)\; font-size: 16px\;"><span style="font-family:arial\;"><span style="font-size:16px\;"><span style="color: rgb(0\, 0\, 0)\;">Deliver no more than 1\,000 pieces&nbsp\;by&nbsp\;</span><span style="color: rgb(0\, 0\, 0)\; font-weight: bold\;">August 10th&nbsp\;</span><span style="color: rgb(0\, 0\, 0)\;">to the&nbsp\;Superior Chamber Office. Please make arrangements with Stefanie at </span><a data-link-type="email" href="mailto:stefanie@superiorchamber.com" style="color: rgb(138\, 12\, 82)\; font-weight: bold\;" target="_blank">stefanie@superiorchamber.com</a><span style="color: rgb(0\, 0\, 0)\;">. </span></span></span></div>\n\n<div style="margin: 0px\; padding: 0px\; color: rgb(62\, 62\, 62)\; font-family: Arial\, Verdana\, Helvetica\, sans-serif\; font-size: 14px\; white-space: pre-wrap\; background-color: rgb(255\, 255\, 255)\;"><br />\n<span style="font-family:arial\;"><span style="font-size:16px\;"><span style="color: rgb(0\, 0\, 0)\; font-style: italic\; font-weight: bold\;">Who?</span></span></span></div>\n\n<div style="margin: 0px\; padding: 0px\; color: rgb(62\, 62\, 62)\; font-family: Arial\, Verdana\, Helvetica\, sans-serif\; font-size: 14px\; white-space: pre-wrap\; background-color: rgb(255\, 255\, 255)\;"><span style="font-family:arial\;"><span style="font-size:16px\;"><span style="color: rgb(0\, 0\, 0)\;">The Roof Top Drop is for members in the </span><span style="color: rgb(0\, 0\, 0)\; font-weight: bold\;">Bronze level or above</span><span style="color: rgb(0\, 0\, 0)\;">. </span></span></span></div>\n\n<div style="margin: 0px\; padding: 0px\; color: rgb(62\, 62\, 62)\; font-family: Arial\, Verdana\, Helvetica\, sans-serif\; font-size: 14px\; white-space: pre-wrap\; background-color: rgb(255\, 255\, 255)\;"><br />\n<span style="font-family:arial\;"><span style="font-size:16px\;"><span style="color: rgb(0\, 0\, 0)\; font-weight: bold\;">Individual Members</span></span></span></div>\n\n<div style="margin: 0px\; padding: 0px\; color: rgb(62\, 62\, 62)\; font-family: Arial\, Verdana\, Helvetica\, sans-serif\; font-size: 14px\; white-space: pre-wrap\; background-color: rgb(255\, 255\, 255)\;"><span style="font-family:arial\;"><span style="font-size:16px\;"><span style="color: rgb(0\, 0\, 0)\;">If you are an </span><span style="color: rgb(0\, 0\, 0)\; font-weight: bold\;">Individual level</span><span style="color: rgb(0\, 0\, 0)\;"> Member\, you have the option to upgrade or pay a fee to participate in this drop.</span></span></span></div>\n</div>\n
LOCATION:
UID:e.867.15066
SEQUENCE:3
DTSTAMP:20260419T205455Z
URL:http://superiorchamber.chambermaster.com/events/details/rooftop-drop-fall-2023-15066
END:VEVENT

END:VCALENDAR
