BEGIN:VCALENDAR
VERSION:2.0
PRODID:-//ChamberMaster//Event Calendar 2.0//EN
METHOD:PUBLISH
X-PUBLISHED-TTL:P3D
REFRESH-INTERVAL:P3D
CALSCALE:GREGORIAN
BEGIN:VEVENT
DTSTART:20200123T000000Z
DTEND:20200123T020000Z
X-MICROSOFT-CDO-ALLDAYEVENT:FALSE
SUMMARY:After Hours Networking Event
DESCRIPTION:The Town of Superior's 2019 purchase of the former Land Rover Building at 1500 Coalton Road marked a significant investment in the community. Soon\, the renovated building will be a hub for community activity and engagement.\n\n\n\nThe Town is launching its community engagement and feedback process this month\, inviting input for uses for the building.  Already\, architects are designing concepts for uses of the space that will add the most value for the Superior community.\n\n\n\nMaybe you've heard about ideas for the building?  Well\, now you have an opportunity to come check out the space for yourself and see all the possibilities.\n\n\n\nThe Town's Parks\, Recreation & Open Space (PROS) staff is excited to host January's After Hours Networking event for the Chamber -- giving tours\, explaining ideas\, and giving chamber members and guests an inside look at this incredible new community asset.  \n\n\n\nAs usual\, we'll have food\, drink\, networking\, and door prizes. Come see what your Chamber friends have planned for the new year.  Bring your business cards and see what is in store for the former car dealership turned community center.\n\n\n\nPlease RSVP so that we can plan adequately for food and drink. Thanks!
X-ALT-DESC;FMTTYPE=text/html:<span style="font-size:16px\;">The Town of Superior&#39\;s 2019 purchase of the former Land Rover Building at 1500 Coalton Road marked a significant investment in the community. Soon\, the renovated building will be a hub for community activity and engagement.<br />\n<br />\nThe Town is launching its community engagement and feedback process this month\, inviting input for uses for the building.&nbsp\; Already\, architects are designing concepts for uses of the space that will add the most value for the Superior community.<br />\n<br />\nMaybe you&#39\;ve heard about ideas for the building?&nbsp\; Well\, now you have an opportunity to come check out the space for yourself and see all the possibilities.<br />\n<br />\nThe Town&#39\;s Parks\, Recreation &amp\; Open Space (PROS) staff is excited to host January&#39\;s After Hours Networking event for the Chamber -- giving tours\, explaining ideas\, and giving chamber members and guests an inside look at this incredible new community asset.&nbsp\;&nbsp\;<br />\n<br />\nAs usual\, we&#39\;ll have food\, drink\, networking\, and door prizes. Come see what your Chamber friends have planned for the new year.&nbsp\; Bring your business cards and see what is in store for the former car dealership turned community center.<br />\n<br />\nPlease RSVP so that we can plan adequately for food and drink. Thanks!</span>
LOCATION:1500 Coalton Road Building (the former Land Rover dealership) 1500 Coalton Rd.\, Superior
UID:e.867.11253
SEQUENCE:3
DTSTAMP:20260421T135707Z
URL:http://superiorchamber.chambermaster.com/events/details/after-hours-networking-event-11253
END:VEVENT

END:VCALENDAR
